Package: sketchR Version: 1.3.0 Command: /home/biocbuild/bbs-3.21-bioc/R/bin/R CMD INSTALL sketchR StartedAt: 2025-02-09 15:15:51 -0500 (Sun, 09 Feb 2025) EndedAt: 2025-02-09 15:16:06 -0500 (Sun, 09 Feb 2025) EllapsedTime: 15.0 seconds RetCode: 0 Status: OK