Package: twilight