Package: slalom Version: 1.29.0 Command: /Library/Frameworks/R.framework/Resources/bin/R CMD build --keep-empty-dirs --no-resave-data slalom StartedAt: 2025-02-04 17:39:01 -0500 (Tue, 04 Feb 2025) EndedAt: 2025-02-04 17:39:05 -0500 (Tue, 04 Feb 2025) EllapsedTime: 4.1 seconds RetCode: 1 Status: ERROR PackageFile: None PackageFileSize: NA