Package: slalom Version: 1.29.0 Command: /Library/Frameworks/R.framework/Resources/bin/R CMD INSTALL slalom StartedAt: 2025-02-04 15:24:28 -0500 (Tue, 04 Feb 2025) EndedAt: 2025-02-04 15:24:31 -0500 (Tue, 04 Feb 2025) EllapsedTime: 3.1 seconds RetCode: 1 Status: ERROR