Package: slalom Version: 1.29.0 Command: /home/biocbuild/R/R/bin/R CMD build --keep-empty-dirs --no-resave-data slalom StartedAt: 2025-01-29 02:25:36 -0000 (Wed, 29 Jan 2025) EndedAt: 2025-01-29 02:27:37 -0000 (Wed, 29 Jan 2025) EllapsedTime: 121.2 seconds RetCode: 0 Status: OK PackageFile: slalom_1.29.0.tar.gz PackageFileSize: 17.47 MiB