Package: slalom Version: 1.29.0 Command: /home/biocbuild/R/R/bin/R CMD check --install=check:slalom.install-out.txt --library=/home/biocbuild/R/R/site-library --no-vignettes --timings slalom_1.29.0.tar.gz StartedAt: 2025-01-28 15:26:56 -0000 (Tue, 28 Jan 2025) EndedAt: 2025-01-28 15:32:50 -0000 (Tue, 28 Jan 2025) EllapsedTime: 354.3 seconds RetCode: 0 Status: WARNINGS CheckDir: slalom.Rcheck Warnings: 1