Package: slalom Version: 1.29.0 Command: /home/biocbuild/R/R/bin/R CMD INSTALL slalom StartedAt: 2025-01-29 20:26:24 -0000 (Wed, 29 Jan 2025) EndedAt: 2025-01-29 20:27:48 -0000 (Wed, 29 Jan 2025) EllapsedTime: 83.3 seconds RetCode: 0 Status: OK