Package: slalom Version: 1.29.0 Command: /Library/Frameworks/R.framework/Resources/bin/R CMD build --keep-empty-dirs --no-resave-data slalom StartedAt: 2025-02-09 18:30:29 -0500 (Sun, 09 Feb 2025) EndedAt: 2025-02-09 18:30:39 -0500 (Sun, 09 Feb 2025) EllapsedTime: 10.3 seconds RetCode: 1 Status: ERROR PackageFile: None PackageFileSize: NA