Package: slalom Version: 1.29.0 Command: /home/biocbuild/bbs-3.21-bioc/R/bin/R CMD INSTALL slalom StartedAt: 2025-02-09 15:28:56 -0500 (Sun, 09 Feb 2025) EndedAt: 2025-02-09 15:29:51 -0500 (Sun, 09 Feb 2025) EllapsedTime: 54.7 seconds RetCode: 0 Status: OK