Package: slalom Version: 1.29.0 Command: chmod a+r slalom -R && E:\biocbuild\bbs-3.21-bioc\R\bin\R.exe CMD build --keep-empty-dirs --no-resave-data slalom StartedAt: 2025-02-04 21:46:39 -0500 (Tue, 04 Feb 2025) EndedAt: 2025-02-04 21:48:38 -0500 (Tue, 04 Feb 2025) EllapsedTime: 119.1 seconds RetCode: 0 Status: OK PackageFile: slalom_1.29.0.tar.gz PackageFileSize: 17.42 MiB