Package: slalom Version: 1.29.0 Command: E:\biocbuild\bbs-3.21-bioc\R\bin\R.exe CMD check --no-multiarch --install=check:slalom.install-out.txt --library=E:\biocbuild\bbs-3.21-bioc\R\library --no-vignettes --timings slalom_1.29.0.tar.gz StartedAt: 2025-02-05 05:58:43 -0500 (Wed, 05 Feb 2025) EndedAt: 2025-02-05 06:04:33 -0500 (Wed, 05 Feb 2025) EllapsedTime: 350.5 seconds RetCode: 0 Status: WARNINGS CheckDir: slalom.Rcheck Warnings: 1