Package: smoppix Version: 0.99.42 Maintainer: Stijn Hawinkel MaintainerEmail: stijn.hawinkel at psb.ugent.be git_url: https://git.bioconductor.org/packages/smoppix git_branch: devel git_last_commit: 0f4c995 git_last_commit_date: 2025-02-06 06:23:35 -0500 (Thu, 06 Feb 2025)