Package: smoppix Version: 0.99.42 Command: rm -rf smoppix.buildbin-libdir && mkdir smoppix.buildbin-libdir && /Users/biocbuild/BBS/utils/build-universal.sh smoppix_0.99.42.tar.gz /Library/Frameworks/R.framework/Resources/bin/R smoppix.buildbin-libdir StartedAt: 2025-02-09 22:31:37 -0500 (Sun, 09 Feb 2025) EndedAt: 2025-02-09 22:31:54 -0500 (Sun, 09 Feb 2025) EllapsedTime: 16.4 seconds RetCode: 0 Status: OK PackageFile: smoppix_0.99.42.tgz PackageFileSize: 5.088 MiB