Package: smoppix Version: 0.99.42 Command: /Library/Frameworks/R.framework/Resources/bin/R CMD check --install=check:smoppix.install-out.txt --library=/Library/Frameworks/R.framework/Resources/library --no-vignettes --timings smoppix_0.99.42.tar.gz StartedAt: 2025-02-09 21:26:36 -0500 (Sun, 09 Feb 2025) EndedAt: 2025-02-09 21:29:04 -0500 (Sun, 09 Feb 2025) EllapsedTime: 147.7 seconds RetCode: 0 Status: OK CheckDir: smoppix.Rcheck Warnings: 0