Package: smoppix Version: 0.99.43 Command: /Library/Frameworks/R.framework/Resources/bin/R CMD INSTALL smoppix StartedAt: 2025-02-12 15:29:30 -0500 (Wed, 12 Feb 2025) EndedAt: 2025-02-12 15:29:47 -0500 (Wed, 12 Feb 2025) EllapsedTime: 17.4 seconds RetCode: 0 Status: OK