Package: smoppix Version: 0.99.42 Command: /Library/Frameworks/R.framework/Resources/bin/R CMD build --keep-empty-dirs --no-resave-data smoppix StartedAt: 2025-02-09 18:30:54 -0500 (Sun, 09 Feb 2025) EndedAt: 2025-02-09 18:37:00 -0500 (Sun, 09 Feb 2025) EllapsedTime: 365.5 seconds RetCode: 0 Status: OK PackageFile: smoppix_0.99.42.tar.gz PackageFileSize: 4.889 MiB