Package: smoppix Version: 0.99.42 Command: /Library/Frameworks/R.framework/Resources/bin/R CMD check --install=check:smoppix.install-out.txt --library=/Library/Frameworks/R.framework/Resources/library --no-vignettes --timings smoppix_0.99.42.tar.gz StartedAt: 2025-02-09 23:42:55 -0500 (Sun, 09 Feb 2025) EndedAt: 2025-02-09 23:50:23 -0500 (Sun, 09 Feb 2025) EllapsedTime: 447.9 seconds RetCode: 0 Status: OK CheckDir: smoppix.Rcheck Warnings: 0