Package: smoppix Version: 0.99.42 Command: /home/biocbuild/bbs-3.21-bioc/R/bin/R CMD check --install=check:smoppix.install-out.txt --library=/home/biocbuild/bbs-3.21-bioc/R/site-library --timings smoppix_0.99.42.tar.gz StartedAt: 2025-02-10 02:46:36 -0500 (Mon, 10 Feb 2025) EndedAt: 2025-02-10 02:57:31 -0500 (Mon, 10 Feb 2025) EllapsedTime: 654.7 seconds RetCode: 0 Status: OK CheckDir: smoppix.Rcheck Warnings: 0