Package: smoppix Version: 0.99.43 Command: /home/biocbuild/bbs-3.21-bioc/R/bin/R CMD INSTALL smoppix StartedAt: 2025-02-12 15:24:19 -0500 (Wed, 12 Feb 2025) EndedAt: 2025-02-12 15:25:05 -0500 (Wed, 12 Feb 2025) EllapsedTime: 45.9 seconds RetCode: 0 Status: OK