Package: snapcount Version: 1.19.0 Command: /home/biocbuild/R/R/bin/R CMD check --install=check:snapcount.install-out.txt --library=/home/biocbuild/R/R/site-library --no-vignettes --timings snapcount_1.19.0.tar.gz StartedAt: 2025-01-28 15:28:20 -0000 (Tue, 28 Jan 2025) EndedAt: 2025-01-28 15:38:27 -0000 (Tue, 28 Jan 2025) EllapsedTime: 607.6 seconds RetCode: 1 Status: ERROR CheckDir: snapcount.Rcheck Warnings: NA