Package: snapcount Version: 1.19.0 Command: rm -rf snapcount.buildbin-libdir && mkdir snapcount.buildbin-libdir && /Users/biocbuild/BBS/utils/build-universal.sh snapcount_1.19.0.tar.gz /Library/Frameworks/R.framework/Resources/bin/R snapcount.buildbin-libdir StartedAt: 2025-02-10 01:17:34 -0500 (Mon, 10 Feb 2025) EndedAt: 2025-02-10 01:18:18 -0500 (Mon, 10 Feb 2025) EllapsedTime: 43.9 seconds RetCode: 0 Status: OK PackageFile: snapcount_1.19.0.tgz PackageFileSize: 620.6 KiB