Package: snapcount Version: 1.19.0 Command: /Library/Frameworks/R.framework/Resources/bin/R CMD build --keep-empty-dirs --no-resave-data snapcount StartedAt: 2025-02-03 18:26:57 -0500 (Mon, 03 Feb 2025) EndedAt: 2025-02-03 18:28:36 -0500 (Mon, 03 Feb 2025) EllapsedTime: 99.4 seconds RetCode: 0 Status: OK PackageFile: snapcount_1.19.0.tar.gz PackageFileSize: 514 KiB