Package: snapcount Version: 1.19.0 Command: /Library/Frameworks/R.framework/Resources/bin/R CMD check --install=check:snapcount.install-out.txt --library=/Library/Frameworks/R.framework/Resources/library --no-vignettes --timings snapcount_1.19.0.tar.gz StartedAt: 2025-02-03 23:26:42 -0500 (Mon, 03 Feb 2025) EndedAt: 2025-02-03 23:32:15 -0500 (Mon, 03 Feb 2025) EllapsedTime: 333.5 seconds RetCode: 0 Status: OK CheckDir: snapcount.Rcheck Warnings: 0