Package: snapcount Version: 1.19.0 Command: chmod a+r snapcount -R && E:\biocbuild\bbs-3.21-bioc\R\bin\R.exe CMD build --keep-empty-dirs --no-resave-data snapcount StartedAt: 2025-02-09 21:45:40 -0500 (Sun, 09 Feb 2025) EndedAt: 2025-02-09 21:47:31 -0500 (Sun, 09 Feb 2025) EllapsedTime: 110.7 seconds RetCode: 0 Status: OK PackageFile: snapcount_1.19.0.tar.gz PackageFileSize: 514.5 KiB