Package: snifter Version: 1.17.0 Command: /Library/Frameworks/R.framework/Resources/bin/R CMD INSTALL snifter StartedAt: 2025-02-09 15:03:32 -0500 (Sun, 09 Feb 2025) EndedAt: 2025-02-09 15:03:37 -0500 (Sun, 09 Feb 2025) EllapsedTime: 4.5 seconds RetCode: 0 Status: OK