Package: snifter Version: 1.17.0 Command: /home/biocbuild/R/R/bin/R CMD INSTALL snifter StartedAt: 2025-01-29 19:36:08 -0000 (Wed, 29 Jan 2025) EndedAt: 2025-01-29 19:36:25 -0000 (Wed, 29 Jan 2025) EllapsedTime: 16.8 seconds RetCode: 0 Status: OK