Package: snifter Version: 1.17.0 Command: /Library/Frameworks/R.framework/Resources/bin/R CMD build --keep-empty-dirs --no-resave-data snifter StartedAt: 2025-02-09 18:31:15 -0500 (Sun, 09 Feb 2025) EndedAt: 2025-02-09 18:32:21 -0500 (Sun, 09 Feb 2025) EllapsedTime: 66.3 seconds RetCode: 0 Status: OK PackageFile: snifter_1.17.0.tar.gz PackageFileSize: 878.4 KiB