Package: snifter Version: 1.17.0 Command: /home/biocbuild/bbs-3.21-bioc/R/bin/R CMD build --keep-empty-dirs --no-resave-data snifter StartedAt: 2025-02-12 19:16:44 -0500 (Wed, 12 Feb 2025) EndedAt: 2025-02-12 19:17:59 -0500 (Wed, 12 Feb 2025) EllapsedTime: 74.1 seconds RetCode: 0 Status: OK PackageFile: snifter_1.17.0.tar.gz PackageFileSize: 710.9 KiB