Package: snifter Version: 1.17.0 Command: chmod a+r snifter -R && E:\biocbuild\bbs-3.21-bioc\R\bin\R.exe --arch x64 CMD build --keep-empty-dirs --no-resave-data snifter StartedAt: 2025-02-09 21:45:41 -0500 (Sun, 09 Feb 2025) EndedAt: 2025-02-09 21:48:15 -0500 (Sun, 09 Feb 2025) EllapsedTime: 154.7 seconds RetCode: 0 Status: OK PackageFile: snifter_1.17.0.tar.gz PackageFileSize: 499.6 KiB