Package: snpStats Version: 1.57.0 Command: /Library/Frameworks/R.framework/Resources/bin/R CMD build --keep-empty-dirs --no-resave-data snpStats StartedAt: 2025-02-12 17:40:11 -0500 (Wed, 12 Feb 2025) EndedAt: 2025-02-12 17:40:29 -0500 (Wed, 12 Feb 2025) EllapsedTime: 18.2 seconds RetCode: 1 Status: ERROR PackageFile: None PackageFileSize: NA