Package: snpStats Version: 1.57.0 Command: /home/biocbuild/R/R/bin/R CMD build --keep-empty-dirs --no-resave-data snpStats StartedAt: 2025-01-29 02:28:29 -0000 (Wed, 29 Jan 2025) EndedAt: 2025-01-29 02:30:05 -0000 (Wed, 29 Jan 2025) EllapsedTime: 96.1 seconds RetCode: 0 Status: OK PackageFile: snpStats_1.57.0.tar.gz PackageFileSize: 7.717 MiB