Package: snpStats Version: 1.57.0 Command: /Library/Frameworks/R.framework/Resources/bin/R CMD INSTALL snpStats StartedAt: 2025-02-09 15:36:15 -0500 (Sun, 09 Feb 2025) EndedAt: 2025-02-09 15:36:39 -0500 (Sun, 09 Feb 2025) EllapsedTime: 24.6 seconds RetCode: 0 Status: OK