Package: snpStats Version: 1.57.0 Command: E:\biocbuild\bbs-3.21-bioc\R\bin\R.exe CMD check --no-multiarch --install=check:snpStats.install-out.txt --library=E:\biocbuild\bbs-3.21-bioc\R\library --no-vignettes --timings snpStats_1.57.0.tar.gz StartedAt: 2025-01-22 05:38:14 -0500 (Wed, 22 Jan 2025) EndedAt: 2025-01-22 05:39:41 -0500 (Wed, 22 Jan 2025) EllapsedTime: 87.5 seconds RetCode: 0 Status: WARNINGS CheckDir: snpStats.Rcheck Warnings: 1