Package: soGGi Version: 1.39.0 Command: /Library/Frameworks/R.framework/Resources/bin/R CMD check --install=check:soGGi.install-out.txt --library=/Library/Frameworks/R.framework/Resources/library --no-vignettes --timings soGGi_1.39.0.tar.gz StartedAt: 2025-02-09 23:44:34 -0500 (Sun, 09 Feb 2025) EndedAt: 2025-02-09 23:50:03 -0500 (Sun, 09 Feb 2025) EllapsedTime: 329.0 seconds RetCode: 0 Status: OK CheckDir: soGGi.Rcheck Warnings: 0