Package: soGGi Version: 1.39.0 Command: /Library/Frameworks/R.framework/Resources/bin/R CMD INSTALL soGGi StartedAt: 2025-02-09 15:29:46 -0500 (Sun, 09 Feb 2025) EndedAt: 2025-02-09 15:30:46 -0500 (Sun, 09 Feb 2025) EllapsedTime: 59.6 seconds RetCode: 0 Status: OK