Package: soGGi Version: 1.39.0 Command: /home/biocbuild/bbs-3.21-bioc/R/bin/R CMD check --install=check:soGGi.install-out.txt --library=/home/biocbuild/bbs-3.21-bioc/R/site-library --timings soGGi_1.39.0.tar.gz StartedAt: 2025-02-10 02:48:47 -0500 (Mon, 10 Feb 2025) EndedAt: 2025-02-10 02:54:17 -0500 (Mon, 10 Feb 2025) EllapsedTime: 329.4 seconds RetCode: 0 Status: OK CheckDir: soGGi.Rcheck Warnings: 0