Package: soGGi Version: 1.39.0 Command: /home/biocbuild/bbs-3.21-bioc/R/bin/R CMD INSTALL soGGi StartedAt: 2025-02-09 15:55:06 -0500 (Sun, 09 Feb 2025) EndedAt: 2025-02-09 15:55:48 -0500 (Sun, 09 Feb 2025) EllapsedTime: 41.3 seconds RetCode: 0 Status: OK