Package: soGGi Version: 1.39.0 Command: chmod a+r soGGi -R && E:\biocbuild\bbs-3.21-bioc\R\bin\R.exe CMD build --keep-empty-dirs --no-resave-data soGGi StartedAt: 2025-02-12 21:52:36 -0500 (Wed, 12 Feb 2025) EndedAt: 2025-02-12 21:54:15 -0500 (Wed, 12 Feb 2025) EllapsedTime: 99.1 seconds RetCode: 0 Status: OK PackageFile: soGGi_1.39.0.tar.gz PackageFileSize: 3.053 MiB