Package: soGGi Version: 1.39.0 Command: E:\biocbuild\bbs-3.21-bioc\R\bin\R.exe CMD check --no-multiarch --install=check:soGGi.install-out.txt --library=E:\biocbuild\bbs-3.21-bioc\R\library --no-vignettes --timings soGGi_1.39.0.tar.gz StartedAt: 2025-02-10 05:37:37 -0500 (Mon, 10 Feb 2025) EndedAt: 2025-02-10 05:43:14 -0500 (Mon, 10 Feb 2025) EllapsedTime: 337.5 seconds RetCode: 0 Status: OK CheckDir: soGGi.Rcheck Warnings: 0