Package: soGGi Version: 1.39.0 Command: E:\biocbuild\bbs-3.21-bioc\R\bin\R.exe CMD INSTALL soGGi StartedAt: 2025-02-09 16:56:14 -0500 (Sun, 09 Feb 2025) EndedAt: 2025-02-09 16:57:08 -0500 (Sun, 09 Feb 2025) EllapsedTime: 55.0 seconds RetCode: 0 Status: OK