Package: sosta Version: 0.99.4 Command: rm -rf sosta.buildbin-libdir && mkdir sosta.buildbin-libdir && /Users/biocbuild/BBS/utils/build-universal.sh sosta_0.99.4.tar.gz /Library/Frameworks/R.framework/Resources/bin/R sosta.buildbin-libdir StartedAt: 2025-02-09 22:31:44 -0500 (Sun, 09 Feb 2025) EndedAt: 2025-02-09 22:32:01 -0500 (Sun, 09 Feb 2025) EllapsedTime: 17.3 seconds RetCode: 0 Status: OK PackageFile: sosta_0.99.4.tgz PackageFileSize: 2.222 MiB