Package: sosta Version: 0.99.3 Command: /home/biocbuild/R/R/bin/R CMD build --keep-empty-dirs --no-resave-data sosta StartedAt: 2025-01-29 02:28:38 -0000 (Wed, 29 Jan 2025) EndedAt: 2025-01-29 02:28:40 -0000 (Wed, 29 Jan 2025) EllapsedTime: 2.0 seconds RetCode: 1 Status: ERROR PackageFile: None PackageFileSize: NA