Package: sosta Version: 0.99.4 Command: /Library/Frameworks/R.framework/Resources/bin/R CMD build --keep-empty-dirs --no-resave-data sosta StartedAt: 2025-02-09 18:32:05 -0500 (Sun, 09 Feb 2025) EndedAt: 2025-02-09 18:37:45 -0500 (Sun, 09 Feb 2025) EllapsedTime: 340.4 seconds RetCode: 0 Status: OK PackageFile: sosta_0.99.4.tar.gz PackageFileSize: 2.16 MiB