Package: sosta Version: 0.99.4 Command: /Library/Frameworks/R.framework/Resources/bin/R CMD INSTALL sosta StartedAt: 2025-02-09 15:15:50 -0500 (Sun, 09 Feb 2025) EndedAt: 2025-02-09 15:16:46 -0500 (Sun, 09 Feb 2025) EllapsedTime: 56.2 seconds RetCode: 0 Status: OK