Package: sosta Version: 0.99.3 Command: /home/biocbuild/bbs-3.21-bioc/R/bin/R CMD build --keep-empty-dirs --no-resave-data sosta StartedAt: 2025-02-03 19:29:49 -0500 (Mon, 03 Feb 2025) EndedAt: 2025-02-03 19:33:25 -0500 (Mon, 03 Feb 2025) EllapsedTime: 215.2 seconds RetCode: 0 Status: OK PackageFile: sosta_0.99.3.tar.gz PackageFileSize: 2.118 MiB