Package: sosta Version: 0.99.4 Command: /home/biocbuild/bbs-3.21-bioc/R/bin/R CMD check --install=check:sosta.install-out.txt --library=/home/biocbuild/bbs-3.21-bioc/R/site-library --timings sosta_0.99.4.tar.gz StartedAt: 2025-02-10 02:49:38 -0500 (Mon, 10 Feb 2025) EndedAt: 2025-02-10 03:01:09 -0500 (Mon, 10 Feb 2025) EllapsedTime: 690.8 seconds RetCode: 0 Status: OK CheckDir: sosta.Rcheck Warnings: 0