Package: sosta Version: 0.99.4 Command: rm -rf sosta.buildbin-libdir && mkdir sosta.buildbin-libdir && E:\biocbuild\bbs-3.21-bioc\R\bin\R.exe CMD INSTALL --build --library=sosta.buildbin-libdir sosta_0.99.4.tar.gz StartedAt: 2025-02-10 08:45:47 -0500 (Mon, 10 Feb 2025) EndedAt: 2025-02-10 08:46:32 -0500 (Mon, 10 Feb 2025) EllapsedTime: 45.2 seconds RetCode: 0 Status: OK PackageFile: sosta_0.99.4.zip PackageFileSize: 589.7 KiB