Package: sosta Version: 0.99.4 Command: chmod a+r sosta -R && E:\biocbuild\bbs-3.21-bioc\R\bin\R.exe CMD build --keep-empty-dirs --no-resave-data sosta StartedAt: 2025-02-09 21:46:33 -0500 (Sun, 09 Feb 2025) EndedAt: 2025-02-09 21:53:31 -0500 (Sun, 09 Feb 2025) EllapsedTime: 418.5 seconds RetCode: 0 Status: OK PackageFile: sosta_0.99.4.tar.gz PackageFileSize: 535.5 KiB