Package: sosta Version: 0.99.4 Command: E:\biocbuild\bbs-3.21-bioc\R\bin\R.exe CMD check --no-multiarch --install=check:sosta.install-out.txt --library=E:\biocbuild\bbs-3.21-bioc\R\library --no-vignettes --timings sosta_0.99.4.tar.gz StartedAt: 2025-02-10 05:38:21 -0500 (Mon, 10 Feb 2025) EndedAt: 2025-02-10 05:46:57 -0500 (Mon, 10 Feb 2025) EllapsedTime: 515.7 seconds RetCode: 0 Status: OK CheckDir: sosta.Rcheck Warnings: 0