Package: spaSim Version: 1.9.0 Command: rm -rf spaSim.buildbin-libdir && mkdir spaSim.buildbin-libdir && /Users/biocbuild/BBS/utils/build-universal.sh spaSim_1.9.0.tar.gz /Library/Frameworks/R.framework/Resources/bin/R spaSim.buildbin-libdir StartedAt: 2025-02-09 22:31:53 -0500 (Sun, 09 Feb 2025) EndedAt: 2025-02-09 22:32:05 -0500 (Sun, 09 Feb 2025) EllapsedTime: 12.2 seconds RetCode: 0 Status: OK PackageFile: spaSim_1.9.0.tgz PackageFileSize: 3.989 MiB